BEGIN:VCALENDAR
VERSION:2.0
PRODID:-//Laurel Lanes - ECPv6.15.12//NONSGML v1.0//EN
CALSCALE:GREGORIAN
METHOD:PUBLISH
X-WR-CALNAME:Laurel Lanes
X-ORIGINAL-URL:https://laurellanesnj.com
X-WR-CALDESC:Events for Laurel Lanes
REFRESH-INTERVAL;VALUE=DURATION:PT1H
X-Robots-Tag:noindex
X-PUBLISHED-TTL:PT1H
BEGIN:VTIMEZONE
TZID:America/New_York
BEGIN:DAYLIGHT
TZOFFSETFROM:-0500
TZOFFSETTO:-0400
TZNAME:EDT
DTSTART:20240310T070000
END:DAYLIGHT
BEGIN:STANDARD
TZOFFSETFROM:-0400
TZOFFSETTO:-0500
TZNAME:EST
DTSTART:20241103T060000
END:STANDARD
BEGIN:DAYLIGHT
TZOFFSETFROM:-0500
TZOFFSETTO:-0400
TZNAME:EDT
DTSTART:20250309T070000
END:DAYLIGHT
BEGIN:STANDARD
TZOFFSETFROM:-0400
TZOFFSETTO:-0500
TZNAME:EST
DTSTART:20251102T060000
END:STANDARD
BEGIN:DAYLIGHT
TZOFFSETFROM:-0500
TZOFFSETTO:-0400
TZNAME:EDT
DTSTART:20260308T070000
END:DAYLIGHT
BEGIN:STANDARD
TZOFFSETFROM:-0400
TZOFFSETTO:-0500
TZNAME:EST
DTSTART:20261101T060000
END:STANDARD
END:VTIMEZONE
BEGIN:VEVENT
DTSTART;TZID=America/New_York:20250305T200000
DTEND;TZID=America/New_York:20250305T230000
DTSTAMP:20260422T074630
CREATED:20250107T204208Z
LAST-MODIFIED:20250204T205933Z
UID:6659-1741204800-1741215600@laurellanesnj.com
SUMMARY:Karaoke Night with DJ Terry O
DESCRIPTION:
URL:https://laurellanesnj.com/event/karaoke-night-with-dj-terry-o-2/
CATEGORIES:Bar
ATTACH;FMTTYPE=image/png:https://laurellanesnj.com/wp-content/uploads/2025/01/DJ-Terry-O.png
END:VEVENT
BEGIN:VEVENT
DTSTART;VALUE=DATE:20250314
DTEND;VALUE=DATE:20250322
DTSTAMP:20260422T074630
CREATED:20250303T232502Z
LAST-MODIFIED:20250314T180411Z
UID:7274-1741910400-1742601599@laurellanesnj.com
SUMMARY:St. Patty's Day Special
DESCRIPTION:
URL:https://laurellanesnj.com/event/st-pattys-day-special/
CATEGORIES:Bar
ATTACH;FMTTYPE=image/png:https://laurellanesnj.com/wp-content/uploads/2024/12/st-pattys-specials-3.png
END:VEVENT
BEGIN:VEVENT
DTSTART;TZID=America/New_York:20250314T193000
DTEND;TZID=America/New_York:20250314T200000
DTSTAMP:20260422T074630
CREATED:20250303T232740Z
LAST-MODIFIED:20250303T232740Z
UID:7277-1741980600-1741982400@laurellanesnj.com
SUMMARY:Beer Pong Tournament
DESCRIPTION:
URL:https://laurellanesnj.com/event/beer-pong-tournament-3/
CATEGORIES:Bar
ATTACH;FMTTYPE=image/png:https://laurellanesnj.com/wp-content/uploads/2025/03/St.-Patricks-Day-Beer-Pong-1.png
END:VEVENT
BEGIN:VEVENT
DTSTART;TZID=America/New_York:20250319T200000
DTEND;TZID=America/New_York:20250319T230000
DTSTAMP:20260422T074630
CREATED:20250107T195827Z
LAST-MODIFIED:20250204T205952Z
UID:6627-1742414400-1742425200@laurellanesnj.com
SUMMARY:Karaoke Night with DJ Terry O
DESCRIPTION:
URL:https://laurellanesnj.com/event/karaoke-night-with-dj-terry-o/
CATEGORIES:Bar
ATTACH;FMTTYPE=image/png:https://laurellanesnj.com/wp-content/uploads/2025/01/karaoke-story-816-e1736282277398.png
END:VEVENT
BEGIN:VEVENT
DTSTART;TZID=America/New_York:20250328T193000
DTEND;TZID=America/New_York:20250328T200000
DTSTAMP:20260422T074630
CREATED:20250303T232823Z
LAST-MODIFIED:20250303T232823Z
UID:7281-1743190200-1743192000@laurellanesnj.com
SUMMARY:Beer Pong Tournament
DESCRIPTION:
URL:https://laurellanesnj.com/event/beer-pong-tournament-4/
CATEGORIES:Bar
ATTACH;FMTTYPE=image/png:https://laurellanesnj.com/wp-content/uploads/2025/03/St.-Patricks-Day-Beer-Pong-2.png
END:VEVENT
BEGIN:VEVENT
DTSTART;TZID=America/New_York:20250331T150000
DTEND;TZID=America/New_York:20250331T200000
DTSTAMP:20260422T074630
CREATED:20250303T233010Z
LAST-MODIFIED:20250313T193425Z
UID:7283-1743433200-1743451200@laurellanesnj.com
SUMMARY:Philly Home Opener
DESCRIPTION:
URL:https://laurellanesnj.com/event/philly-home-opener/
CATEGORIES:Bar
ATTACH;FMTTYPE=image/png:https://laurellanesnj.com/wp-content/uploads/2025/03/BASEBALL-SPECIALS-2024-LinkedIn-Post-e1741894449247.png
END:VEVENT
END:VCALENDAR