BEGIN:VCALENDAR
VERSION:2.0
PRODID:-//Laurel Lanes - ECPv6.15.12//NONSGML v1.0//EN
CALSCALE:GREGORIAN
METHOD:PUBLISH
X-ORIGINAL-URL:https://laurellanesnj.com
X-WR-CALDESC:Events for Laurel Lanes
REFRESH-INTERVAL;VALUE=DURATION:PT1H
X-Robots-Tag:noindex
X-PUBLISHED-TTL:PT1H
BEGIN:VTIMEZONE
TZID:America/New_York
BEGIN:DAYLIGHT
TZOFFSETFROM:-0500
TZOFFSETTO:-0400
TZNAME:EDT
DTSTART:20240310T070000
END:DAYLIGHT
BEGIN:STANDARD
TZOFFSETFROM:-0400
TZOFFSETTO:-0500
TZNAME:EST
DTSTART:20241103T060000
END:STANDARD
BEGIN:DAYLIGHT
TZOFFSETFROM:-0500
TZOFFSETTO:-0400
TZNAME:EDT
DTSTART:20250309T070000
END:DAYLIGHT
BEGIN:STANDARD
TZOFFSETFROM:-0400
TZOFFSETTO:-0500
TZNAME:EST
DTSTART:20251102T060000
END:STANDARD
BEGIN:DAYLIGHT
TZOFFSETFROM:-0500
TZOFFSETTO:-0400
TZNAME:EDT
DTSTART:20260308T070000
END:DAYLIGHT
BEGIN:STANDARD
TZOFFSETFROM:-0400
TZOFFSETTO:-0500
TZNAME:EST
DTSTART:20261101T060000
END:STANDARD
END:VTIMEZONE
BEGIN:VEVENT
DTSTART;VALUE=DATE:20250501
DTEND;VALUE=DATE:20250601
DTSTAMP:20260422T043238
CREATED:20250502T212629Z
LAST-MODIFIED:20250502T212629Z
UID:7472-1746057600-1748735999@laurellanesnj.com
SUMMARY:Teacher Appreciation Month
DESCRIPTION:
URL:https://laurellanesnj.com/event/teacher-appreciation-month/
CATEGORIES:Bar
ATTACH;FMTTYPE=image/png:https://laurellanesnj.com/wp-content/uploads/2025/05/Teacher-Appreciation-Flyer.png
END:VEVENT
BEGIN:VEVENT
DTSTART;VALUE=DATE:20250505
DTEND;VALUE=DATE:20250506
DTSTAMP:20260422T043238
CREATED:20250502T203134Z
LAST-MODIFIED:20250502T203134Z
UID:7469-1746403200-1746489599@laurellanesnj.com
SUMMARY:Cinco De Mayo
DESCRIPTION:
URL:https://laurellanesnj.com/event/cinco-de-mayo/
CATEGORIES:Bar
ATTACH;FMTTYPE=image/png:https://laurellanesnj.com/wp-content/uploads/2025/05/Cinco-de-Mayo-2025.png
END:VEVENT
BEGIN:VEVENT
DTSTART;TZID=America/New_York:20250514T200000
DTEND;TZID=America/New_York:20250514T230000
DTSTAMP:20260422T043238
CREATED:20250420T234359Z
LAST-MODIFIED:20250420T234359Z
UID:7441-1747252800-1747263600@laurellanesnj.com
SUMMARY:Karaoke Night with DJ Terry O
DESCRIPTION:
URL:https://laurellanesnj.com/event/karaoke-night-with-dj-terry-o-8/
CATEGORIES:Bar
ATTACH;FMTTYPE=image/png:https://laurellanesnj.com/wp-content/uploads/2025/01/karaoke-story-816-e1736282277398.png
END:VEVENT
BEGIN:VEVENT
DTSTART;TZID=America/New_York:20250518T133000
DTEND;TZID=America/New_York:20250518T170000
DTSTAMP:20260422T043238
CREATED:20250502T202331Z
LAST-MODIFIED:20250502T202331Z
UID:7466-1747575000-1747587600@laurellanesnj.com
SUMMARY:Phillies Bracelets Pop Up
DESCRIPTION:
URL:https://laurellanesnj.com/event/phillies-bracelets-pop-up/
CATEGORIES:Bar
ATTACH;FMTTYPE=image/png:https://laurellanesnj.com/wp-content/uploads/2025/05/Bracelet-Pop-Up-Insta-45-.png
END:VEVENT
BEGIN:VEVENT
DTSTART;TZID=America/New_York:20250528T200000
DTEND;TZID=America/New_York:20250528T230000
DTSTAMP:20260422T043238
CREATED:20250420T234417Z
LAST-MODIFIED:20250420T234417Z
UID:7440-1748462400-1748473200@laurellanesnj.com
SUMMARY:Karaoke Night with DJ Terry O
DESCRIPTION:
URL:https://laurellanesnj.com/event/karaoke-night-with-dj-terry-o-9/
CATEGORIES:Bar
ATTACH;FMTTYPE=image/png:https://laurellanesnj.com/wp-content/uploads/2025/01/karaoke-story-816-e1736282277398.png
END:VEVENT
BEGIN:VEVENT
DTSTART;TZID=America/New_York:20250530T193000
DTEND;TZID=America/New_York:20250530T200000
DTSTAMP:20260422T043238
CREATED:20250420T234738Z
LAST-MODIFIED:20250420T234738Z
UID:7444-1748633400-1748635200@laurellanesnj.com
SUMMARY:Beer Pong Tournament
DESCRIPTION:
URL:https://laurellanesnj.com/event/beer-pong-tournament-6/
CATEGORIES:Bar
ATTACH;FMTTYPE=image/png:https://laurellanesnj.com/wp-content/uploads/2025/04/beer-pong-flyer-Real-Estate-Flyer-1.png
END:VEVENT
END:VCALENDAR