BEGIN:VCALENDAR
VERSION:2.0
PRODID:-//Laurel Lanes - ECPv6.15.12//NONSGML v1.0//EN
CALSCALE:GREGORIAN
METHOD:PUBLISH
X-WR-CALNAME:Laurel Lanes
X-ORIGINAL-URL:https://laurellanesnj.com
X-WR-CALDESC:Events for Laurel Lanes
REFRESH-INTERVAL;VALUE=DURATION:PT1H
X-Robots-Tag:noindex
X-PUBLISHED-TTL:PT1H
BEGIN:VTIMEZONE
TZID:America/New_York
BEGIN:DAYLIGHT
TZOFFSETFROM:-0500
TZOFFSETTO:-0400
TZNAME:EDT
DTSTART:20240310T070000
END:DAYLIGHT
BEGIN:STANDARD
TZOFFSETFROM:-0400
TZOFFSETTO:-0500
TZNAME:EST
DTSTART:20241103T060000
END:STANDARD
BEGIN:DAYLIGHT
TZOFFSETFROM:-0500
TZOFFSETTO:-0400
TZNAME:EDT
DTSTART:20250309T070000
END:DAYLIGHT
BEGIN:STANDARD
TZOFFSETFROM:-0400
TZOFFSETTO:-0500
TZNAME:EST
DTSTART:20251102T060000
END:STANDARD
BEGIN:DAYLIGHT
TZOFFSETFROM:-0500
TZOFFSETTO:-0400
TZNAME:EDT
DTSTART:20260308T070000
END:DAYLIGHT
BEGIN:STANDARD
TZOFFSETFROM:-0400
TZOFFSETTO:-0500
TZNAME:EST
DTSTART:20261101T060000
END:STANDARD
END:VTIMEZONE
BEGIN:VEVENT
DTSTART;TZID=America/New_York:20250806T200000
DTEND;TZID=America/New_York:20250806T230000
DTSTAMP:20260421T230851
CREATED:20250804T052616Z
LAST-MODIFIED:20250804T052616Z
UID:7691-1754510400-1754521200@laurellanesnj.com
SUMMARY:Karaoke Night with DJ Terry O
DESCRIPTION:
URL:https://laurellanesnj.com/event/karaoke-night-with-dj-terry-o-14/
CATEGORIES:Bar
ATTACH;FMTTYPE=image/png:https://laurellanesnj.com/wp-content/uploads/2025/01/karaoke-story-816-e1736282277398.png
END:VEVENT
BEGIN:VEVENT
DTSTART;TZID=America/New_York:20250807T183000
DTEND;TZID=America/New_York:20250807T200000
DTSTAMP:20260421T230851
CREATED:20250604T213633Z
LAST-MODIFIED:20250618T173659Z
UID:7499-1754591400-1754596800@laurellanesnj.com
SUMMARY:Sip & Script Calligraphy Class
DESCRIPTION:Sign up with the link: https://sipandscript.com/event/modern-calligraphy-for-beginners-at-laurel-lanes/
URL:https://laurellanesnj.com/event/sip-script-calligraphy-class/
CATEGORIES:Bar
ATTACH;FMTTYPE=image/png:https://laurellanesnj.com/wp-content/uploads/2025/06/IMG_0065.png
END:VEVENT
BEGIN:VEVENT
DTSTART;TZID=America/New_York:20250813T183000
DTEND;TZID=America/New_York:20250813T210000
DTSTAMP:20260421T230851
CREATED:20250804T053525Z
LAST-MODIFIED:20250804T053525Z
UID:7699-1755109800-1755118800@laurellanesnj.com
SUMMARY:Mario Kart Tournament
DESCRIPTION:
URL:https://laurellanesnj.com/event/mario-kart-tournament/
CATEGORIES:Bar
ATTACH;FMTTYPE=image/jpeg:https://laurellanesnj.com/wp-content/uploads/2025/08/Mario-Tournament-Instagram-Post-45.jpg
END:VEVENT
BEGIN:VEVENT
DTSTART;TZID=America/New_York:20250814T193000
DTEND;TZID=America/New_York:20250814T223000
DTSTAMP:20260421T230851
CREATED:20250804T053742Z
LAST-MODIFIED:20250804T053742Z
UID:7702-1755199800-1755210600@laurellanesnj.com
SUMMARY:Cat Daddy Band
DESCRIPTION:
URL:https://laurellanesnj.com/event/cat-daddy-band/
CATEGORIES:Bar
ATTACH;FMTTYPE=image/png:https://laurellanesnj.com/wp-content/uploads/2025/08/Cat-Daddy-Band-.png
END:VEVENT
BEGIN:VEVENT
DTSTART;TZID=America/New_York:20250815T183000
DTEND;TZID=America/New_York:20250815T213000
DTSTAMP:20260421T230851
CREATED:20250804T053933Z
LAST-MODIFIED:20250804T053933Z
UID:7705-1755282600-1755293400@laurellanesnj.com
SUMMARY:She-nanigans and Cocktails
DESCRIPTION:
URL:https://laurellanesnj.com/event/she-nanigans-and-cocktails/
CATEGORIES:Bar
ATTACH;FMTTYPE=image/png:https://laurellanesnj.com/wp-content/uploads/2025/08/Pink-Purple-Blue-Neon-Modern-Night-Party-Facebook-Event-Cover.png
END:VEVENT
BEGIN:VEVENT
DTSTART;TZID=America/New_York:20250820T200000
DTEND;TZID=America/New_York:20250820T230000
DTSTAMP:20260421T230851
CREATED:20250804T052649Z
LAST-MODIFIED:20250804T052649Z
UID:7693-1755720000-1755730800@laurellanesnj.com
SUMMARY:Karaoke Night with DJ Terry O
DESCRIPTION:
URL:https://laurellanesnj.com/event/karaoke-night-with-dj-terry-o-15/
CATEGORIES:Bar
ATTACH;FMTTYPE=image/png:https://laurellanesnj.com/wp-content/uploads/2025/01/karaoke-story-816-e1736282277398.png
END:VEVENT
BEGIN:VEVENT
DTSTART;TZID=America/New_York:20250822T193000
DTEND;TZID=America/New_York:20250822T220000
DTSTAMP:20260421T230851
CREATED:20250804T054050Z
LAST-MODIFIED:20250804T054050Z
UID:7708-1755891000-1755900000@laurellanesnj.com
SUMMARY:Battle of the Bands
DESCRIPTION:
URL:https://laurellanesnj.com/event/battle-of-the-bands-2/
CATEGORIES:Bar
ATTACH;FMTTYPE=image/png:https://laurellanesnj.com/wp-content/uploads/2025/08/Battle-of-the-Bands-Casting.png
END:VEVENT
BEGIN:VEVENT
DTSTART;TZID=America/New_York:20250825T193000
DTEND;TZID=America/New_York:20250825T213000
DTSTAMP:20260421T230851
CREATED:20250805T043800Z
LAST-MODIFIED:20250805T043800Z
UID:7715-1756150200-1756157400@laurellanesnj.com
SUMMARY:Love Island Reunion Watch Party
DESCRIPTION:
URL:https://laurellanesnj.com/event/love-island-reunion-watch-party/
CATEGORIES:Bar
ATTACH;FMTTYPE=image/png:https://laurellanesnj.com/wp-content/uploads/2025/08/Love-Island-Menu-Instagram-Post.png
END:VEVENT
BEGIN:VEVENT
DTSTART;TZID=America/New_York:20250829T193000
DTEND;TZID=America/New_York:20250829T200000
DTSTAMP:20260421T230851
CREATED:20250530T182406Z
LAST-MODIFIED:20250804T052935Z
UID:7486-1756495800-1756497600@laurellanesnj.com
SUMMARY:Beer Pong Tournament
DESCRIPTION:
URL:https://laurellanesnj.com/event/beer-pong-tournament-7/
CATEGORIES:Bar
ATTACH;FMTTYPE=image/png:https://laurellanesnj.com/wp-content/uploads/2025/05/beer-pong-flyer-Real-Estate-Flyer-2.png
END:VEVENT
END:VCALENDAR