BEGIN:VCALENDAR
VERSION:2.0
PRODID:-//Laurel Lanes - ECPv6.15.12//NONSGML v1.0//EN
CALSCALE:GREGORIAN
METHOD:PUBLISH
X-ORIGINAL-URL:https://laurellanesnj.com
X-WR-CALDESC:Events for Laurel Lanes
REFRESH-INTERVAL;VALUE=DURATION:PT1H
X-Robots-Tag:noindex
X-PUBLISHED-TTL:PT1H
BEGIN:VTIMEZONE
TZID:America/New_York
BEGIN:DAYLIGHT
TZOFFSETFROM:-0500
TZOFFSETTO:-0400
TZNAME:EDT
DTSTART:20240310T070000
END:DAYLIGHT
BEGIN:STANDARD
TZOFFSETFROM:-0400
TZOFFSETTO:-0500
TZNAME:EST
DTSTART:20241103T060000
END:STANDARD
BEGIN:DAYLIGHT
TZOFFSETFROM:-0500
TZOFFSETTO:-0400
TZNAME:EDT
DTSTART:20250309T070000
END:DAYLIGHT
BEGIN:STANDARD
TZOFFSETFROM:-0400
TZOFFSETTO:-0500
TZNAME:EST
DTSTART:20251102T060000
END:STANDARD
BEGIN:DAYLIGHT
TZOFFSETFROM:-0500
TZOFFSETTO:-0400
TZNAME:EDT
DTSTART:20260308T070000
END:DAYLIGHT
BEGIN:STANDARD
TZOFFSETFROM:-0400
TZOFFSETTO:-0500
TZNAME:EST
DTSTART:20261101T060000
END:STANDARD
END:VTIMEZONE
BEGIN:VEVENT
DTSTART;TZID=America/New_York:20251001T200000
DTEND;TZID=America/New_York:20251001T230000
DTSTAMP:20260421T191725
CREATED:20250910T211849Z
LAST-MODIFIED:20250910T211849Z
UID:7776-1759348800-1759359600@laurellanesnj.com
SUMMARY:Karaoke Night with DJ Terry O
DESCRIPTION:
URL:https://laurellanesnj.com/event/karaoke-night-with-dj-terry-o-17/
CATEGORIES:Bar
ATTACH;FMTTYPE=image/png:https://laurellanesnj.com/wp-content/uploads/2025/01/karaoke-story-816-e1736282277398.png
END:VEVENT
BEGIN:VEVENT
DTSTART;TZID=America/New_York:20251002T183000
DTEND;TZID=America/New_York:20251002T200000
DTSTAMP:20260421T191725
CREATED:20250905T190515Z
LAST-MODIFIED:20250910T212311Z
UID:7767-1759429800-1759435200@laurellanesnj.com
SUMMARY:Pumpkin Calligraphy
DESCRIPTION:
URL:https://laurellanesnj.com/event/pumpkin-calligraphy/
CATEGORIES:Bar
ATTACH;FMTTYPE=image/jpeg:https://laurellanesnj.com/wp-content/uploads/2025/09/IMG_0157-1-1.jpg
END:VEVENT
BEGIN:VEVENT
DTSTART;TZID=America/New_York:20251003T180000
DTEND;TZID=America/New_York:20251003T200000
DTSTAMP:20260421T191725
CREATED:20251006T041725Z
LAST-MODIFIED:20251006T041746Z
UID:7821-1759514400-1759521600@laurellanesnj.com
SUMMARY:Life of a Showgirl Listening Party
DESCRIPTION:
URL:https://laurellanesnj.com/event/7821/
CATEGORIES:Bar
ATTACH;FMTTYPE=image/png:https://laurellanesnj.com/wp-content/uploads/2025/10/1.png
END:VEVENT
BEGIN:VEVENT
DTSTART;TZID=America/New_York:20251006T183000
DTEND;TZID=America/New_York:20251006T210000
DTSTAMP:20260421T191725
CREATED:20251024T191002Z
LAST-MODIFIED:20251024T191002Z
UID:7916-1759775400-1759784400@laurellanesnj.com
SUMMARY:Super Smash Bros Mario Tournament
DESCRIPTION:
URL:https://laurellanesnj.com/event/super-smash-bros-mario-tournament-2/
CATEGORIES:Bar
ATTACH;FMTTYPE=image/png:https://laurellanesnj.com/wp-content/uploads/2025/10/Super-Smash-Bros-Social-Media.png
END:VEVENT
BEGIN:VEVENT
DTSTART;TZID=America/New_York:20251010T183000
DTEND;TZID=America/New_York:20251010T220000
DTSTAMP:20260421T191725
CREATED:20251006T041858Z
LAST-MODIFIED:20251006T041858Z
UID:7825-1760121000-1760133600@laurellanesnj.com
SUMMARY:Mario Kart Tournament
DESCRIPTION:
URL:https://laurellanesnj.com/event/mario-kart-tournament-2/
CATEGORIES:Bar
ATTACH;FMTTYPE=image/png:https://laurellanesnj.com/wp-content/uploads/2025/10/Mario-Tournament-Instagram-Post-45.png
END:VEVENT
BEGIN:VEVENT
DTSTART;TZID=America/New_York:20251014T190000
DTEND;TZID=America/New_York:20251014T210000
DTSTAMP:20260421T191725
CREATED:20251006T042022Z
LAST-MODIFIED:20251006T042022Z
UID:7828-1760468400-1760475600@laurellanesnj.com
SUMMARY:Inkwood Book Trivia
DESCRIPTION:
URL:https://laurellanesnj.com/event/inkwood-book-trivia/
CATEGORIES:Bar
ATTACH;FMTTYPE=image/png:https://laurellanesnj.com/wp-content/uploads/2025/10/Book-Trivia.png
END:VEVENT
BEGIN:VEVENT
DTSTART;TZID=America/New_York:20251015T200000
DTEND;TZID=America/New_York:20251015T230000
DTSTAMP:20260421T191725
CREATED:20250910T211919Z
LAST-MODIFIED:20250910T211919Z
UID:7777-1760558400-1760569200@laurellanesnj.com
SUMMARY:Karaoke Night with DJ Terry O
DESCRIPTION:
URL:https://laurellanesnj.com/event/karaoke-night-with-dj-terry-o-18/
CATEGORIES:Bar
ATTACH;FMTTYPE=image/png:https://laurellanesnj.com/wp-content/uploads/2025/01/karaoke-story-816-e1736282277398.png
END:VEVENT
BEGIN:VEVENT
DTSTART;TZID=America/New_York:20251017T180000
DTEND;TZID=America/New_York:20251017T200000
DTSTAMP:20260421T191725
CREATED:20251006T042152Z
LAST-MODIFIED:20251007T044233Z
UID:7831-1760724000-1760731200@laurellanesnj.com
SUMMARY:🎃Paint a pumpkin bowling pin with us 🎳
DESCRIPTION:
URL:https://laurellanesnj.com/event/paint-a-pumpkin-pin/
CATEGORIES:Bar
ATTACH;FMTTYPE=image/png:https://laurellanesnj.com/wp-content/uploads/2025/10/Paint-A-Pumpkin-Social-Media.png
END:VEVENT
BEGIN:VEVENT
DTSTART;TZID=America/New_York:20251023T183000
DTEND;TZID=America/New_York:20251023T200000
DTSTAMP:20260421T191725
CREATED:20250905T191710Z
LAST-MODIFIED:20250910T212219Z
UID:7769-1761244200-1761249600@laurellanesnj.com
SUMMARY:Thanksgiving Place Card Calligraphy
DESCRIPTION:
URL:https://laurellanesnj.com/event/thanksgiving-place-card-calligraphy/
CATEGORIES:Bar
ATTACH;FMTTYPE=image/jpeg:https://laurellanesnj.com/wp-content/uploads/2025/09/IMG_0157-1.jpg
END:VEVENT
BEGIN:VEVENT
DTSTART;TZID=America/New_York:20251024T193000
DTEND;TZID=America/New_York:20251024T210000
DTSTAMP:20260421T191725
CREATED:20251006T042254Z
LAST-MODIFIED:20251006T042254Z
UID:7834-1761334200-1761339600@laurellanesnj.com
SUMMARY:Haunted Beer Pong Tournament
DESCRIPTION:
URL:https://laurellanesnj.com/event/haunted-beer-pong-tournament/
CATEGORIES:Bar
END:VEVENT
BEGIN:VEVENT
DTSTART;TZID=America/New_York:20251029T200000
DTEND;TZID=America/New_York:20251029T230000
DTSTAMP:20260421T191725
CREATED:20250910T211943Z
LAST-MODIFIED:20250910T211943Z
UID:7780-1761768000-1761778800@laurellanesnj.com
SUMMARY:Karaoke Night with DJ Terry O
DESCRIPTION:
URL:https://laurellanesnj.com/event/karaoke-night-with-dj-terry-o-19/
CATEGORIES:Bar
ATTACH;FMTTYPE=image/png:https://laurellanesnj.com/wp-content/uploads/2025/01/karaoke-story-816-e1736282277398.png
END:VEVENT
END:VCALENDAR