BEGIN:VCALENDAR
VERSION:2.0
PRODID:-//Laurel Lanes - ECPv6.15.12//NONSGML v1.0//EN
CALSCALE:GREGORIAN
METHOD:PUBLISH
X-ORIGINAL-URL:https://laurellanesnj.com
X-WR-CALDESC:Events for Laurel Lanes
REFRESH-INTERVAL;VALUE=DURATION:PT1H
X-Robots-Tag:noindex
X-PUBLISHED-TTL:PT1H
BEGIN:VTIMEZONE
TZID:America/New_York
BEGIN:DAYLIGHT
TZOFFSETFROM:-0500
TZOFFSETTO:-0400
TZNAME:EDT
DTSTART:20240310T070000
END:DAYLIGHT
BEGIN:STANDARD
TZOFFSETFROM:-0400
TZOFFSETTO:-0500
TZNAME:EST
DTSTART:20241103T060000
END:STANDARD
BEGIN:DAYLIGHT
TZOFFSETFROM:-0500
TZOFFSETTO:-0400
TZNAME:EDT
DTSTART:20250309T070000
END:DAYLIGHT
BEGIN:STANDARD
TZOFFSETFROM:-0400
TZOFFSETTO:-0500
TZNAME:EST
DTSTART:20251102T060000
END:STANDARD
BEGIN:DAYLIGHT
TZOFFSETFROM:-0500
TZOFFSETTO:-0400
TZNAME:EDT
DTSTART:20260308T070000
END:DAYLIGHT
BEGIN:STANDARD
TZOFFSETFROM:-0400
TZOFFSETTO:-0500
TZNAME:EST
DTSTART:20261101T060000
END:STANDARD
END:VTIMEZONE
BEGIN:VEVENT
DTSTART;TZID=America/New_York:20251203T200000
DTEND;TZID=America/New_York:20251203T230000
DTSTAMP:20260421T154120
CREATED:20251126T224734Z
LAST-MODIFIED:20251126T224734Z
UID:8005-1764792000-1764802800@laurellanesnj.com
SUMMARY:Karaoke Night with DJ Terry O
DESCRIPTION:
URL:https://laurellanesnj.com/event/karaoke-night-with-dj-terry-o-21/
CATEGORIES:Bar
ATTACH;FMTTYPE=image/png:https://laurellanesnj.com/wp-content/uploads/2025/01/karaoke-story-816-e1736282277398.png
END:VEVENT
BEGIN:VEVENT
DTSTART;TZID=America/New_York:20251217T200000
DTEND;TZID=America/New_York:20251217T230000
DTSTAMP:20260421T154120
CREATED:20251126T224800Z
LAST-MODIFIED:20251126T224800Z
UID:8007-1766001600-1766012400@laurellanesnj.com
SUMMARY:Karaoke Night with DJ Terry O
DESCRIPTION:
URL:https://laurellanesnj.com/event/karaoke-night-with-dj-terry-o-22/
CATEGORIES:Bar
ATTACH;FMTTYPE=image/png:https://laurellanesnj.com/wp-content/uploads/2025/01/karaoke-story-816-e1736282277398.png
END:VEVENT
BEGIN:VEVENT
DTSTART;TZID=America/New_York:20251219T193000
DTEND;TZID=America/New_York:20251219T210000
DTSTAMP:20260421T154120
CREATED:20250910T212106Z
LAST-MODIFIED:20251126T225037Z
UID:7782-1766172600-1766178000@laurellanesnj.com
SUMMARY:Beer Pong Tournament
DESCRIPTION:
URL:https://laurellanesnj.com/event/beer-pong-tournament-9/
CATEGORIES:Bar
ATTACH;FMTTYPE=image/jpeg:https://laurellanesnj.com/wp-content/uploads/2025/09/Festive-Beer-Pong.jpg
END:VEVENT
END:VCALENDAR