BEGIN:VCALENDAR
VERSION:2.0
PRODID:-//Laurel Lanes - ECPv6.15.12//NONSGML v1.0//EN
CALSCALE:GREGORIAN
METHOD:PUBLISH
X-ORIGINAL-URL:https://laurellanesnj.com
X-WR-CALDESC:Events for Laurel Lanes
REFRESH-INTERVAL;VALUE=DURATION:PT1H
X-Robots-Tag:noindex
X-PUBLISHED-TTL:PT1H
BEGIN:VTIMEZONE
TZID:America/New_York
BEGIN:DAYLIGHT
TZOFFSETFROM:-0500
TZOFFSETTO:-0400
TZNAME:EDT
DTSTART:20250309T070000
END:DAYLIGHT
BEGIN:STANDARD
TZOFFSETFROM:-0400
TZOFFSETTO:-0500
TZNAME:EST
DTSTART:20251102T060000
END:STANDARD
BEGIN:DAYLIGHT
TZOFFSETFROM:-0500
TZOFFSETTO:-0400
TZNAME:EDT
DTSTART:20260308T070000
END:DAYLIGHT
BEGIN:STANDARD
TZOFFSETFROM:-0400
TZOFFSETTO:-0500
TZNAME:EST
DTSTART:20261101T060000
END:STANDARD
BEGIN:DAYLIGHT
TZOFFSETFROM:-0500
TZOFFSETTO:-0400
TZNAME:EDT
DTSTART:20270314T070000
END:DAYLIGHT
BEGIN:STANDARD
TZOFFSETFROM:-0400
TZOFFSETTO:-0500
TZNAME:EST
DTSTART:20271107T060000
END:STANDARD
END:VTIMEZONE
BEGIN:VEVENT
DTSTART;TZID=America/New_York:20260107T200000
DTEND;TZID=America/New_York:20260107T230000
DTSTAMP:20260421T134029
CREATED:20251223T062821Z
LAST-MODIFIED:20251223T062821Z
UID:8126-1767816000-1767826800@laurellanesnj.com
SUMMARY:Karaoke Night with DJ Terry O
DESCRIPTION:
URL:https://laurellanesnj.com/event/karaoke-night-with-dj-terry-o-23/
CATEGORIES:Bar
ATTACH;FMTTYPE=image/png:https://laurellanesnj.com/wp-content/uploads/2025/01/karaoke-story-816-e1736282277398.png
END:VEVENT
BEGIN:VEVENT
DTSTART;TZID=America/New_York:20260115T183000
DTEND;TZID=America/New_York:20260115T220000
DTSTAMP:20260421T134029
CREATED:20251223T062751Z
LAST-MODIFIED:20251223T062751Z
UID:8123-1768501800-1768514400@laurellanesnj.com
SUMMARY:Mario Kart Tournament
DESCRIPTION:
URL:https://laurellanesnj.com/event/mario-kart-tournament-3/
CATEGORIES:Bar
ATTACH;FMTTYPE=image/png:https://laurellanesnj.com/wp-content/uploads/2025/12/Mario-Tournament-Instagram-Post-45.png
END:VEVENT
BEGIN:VEVENT
DTSTART;TZID=America/New_York:20260121T200000
DTEND;TZID=America/New_York:20260121T230000
DTSTAMP:20260421T134029
CREATED:20251223T062849Z
LAST-MODIFIED:20251223T062849Z
UID:8128-1769025600-1769036400@laurellanesnj.com
SUMMARY:Karaoke Night with DJ Terry O
DESCRIPTION:
URL:https://laurellanesnj.com/event/karaoke-night-with-dj-terry-o-24/
CATEGORIES:Bar
ATTACH;FMTTYPE=image/png:https://laurellanesnj.com/wp-content/uploads/2025/01/karaoke-story-816-e1736282277398.png
END:VEVENT
BEGIN:VEVENT
DTSTART;TZID=America/New_York:20260127T183000
DTEND;TZID=America/New_York:20260127T203000
DTSTAMP:20260421T134029
CREATED:20251223T062605Z
LAST-MODIFIED:20260109T005051Z
UID:8120-1769538600-1769545800@laurellanesnj.com
SUMMARY:Happy Cat Paint & Sip!
DESCRIPTION:Come out for a cat painting night & meet adoptable cats from New Pawsibilities of NJ! \n  \nWith every purchase from our exclusive cat-themed menu\, 20% will be donated to New Pawsibilities. \n  \nParticipants will attend a guided painting class and take home a 12×16 canvas painting! All art supplies will be provided. \n  \nThe last day to register is Sunday January 25th. \n  \nTo purchase tickets\, visit this page and click January 27th: https://us.partywirks.com/storefront_express/main/vendor/laurel_lanes/456/?customer=1
URL:https://laurellanesnj.com/event/paint-sip-with-cats-2/
CATEGORIES:Bar
ATTACH;FMTTYPE=image/png:https://laurellanesnj.com/wp-content/uploads/2025/12/Paint-Sip.png
END:VEVENT
BEGIN:VEVENT
DTSTART;TZID=America/New_York:20260130T193000
DTEND;TZID=America/New_York:20260130T210000
DTSTAMP:20260421T134029
CREATED:20251223T062435Z
LAST-MODIFIED:20251223T062435Z
UID:8117-1769801400-1769806800@laurellanesnj.com
SUMMARY:Beer Pong Tournament
DESCRIPTION:
URL:https://laurellanesnj.com/event/beer-pong-tournament-11/
CATEGORIES:Bar
ATTACH;FMTTYPE=image/png:https://laurellanesnj.com/wp-content/uploads/2025/12/beer-pong-flyer.png
END:VEVENT
END:VCALENDAR