BEGIN:VCALENDAR
VERSION:2.0
PRODID:-//Laurel Lanes - ECPv6.15.12//NONSGML v1.0//EN
CALSCALE:GREGORIAN
METHOD:PUBLISH
X-WR-CALNAME:Laurel Lanes
X-ORIGINAL-URL:https://laurellanesnj.com
X-WR-CALDESC:Events for Laurel Lanes
REFRESH-INTERVAL;VALUE=DURATION:PT1H
X-Robots-Tag:noindex
X-PUBLISHED-TTL:PT1H
BEGIN:VTIMEZONE
TZID:America/New_York
BEGIN:DAYLIGHT
TZOFFSETFROM:-0500
TZOFFSETTO:-0400
TZNAME:EDT
DTSTART:20250309T070000
END:DAYLIGHT
BEGIN:STANDARD
TZOFFSETFROM:-0400
TZOFFSETTO:-0500
TZNAME:EST
DTSTART:20251102T060000
END:STANDARD
BEGIN:DAYLIGHT
TZOFFSETFROM:-0500
TZOFFSETTO:-0400
TZNAME:EDT
DTSTART:20260308T070000
END:DAYLIGHT
BEGIN:STANDARD
TZOFFSETFROM:-0400
TZOFFSETTO:-0500
TZNAME:EST
DTSTART:20261101T060000
END:STANDARD
BEGIN:DAYLIGHT
TZOFFSETFROM:-0500
TZOFFSETTO:-0400
TZNAME:EDT
DTSTART:20270314T070000
END:DAYLIGHT
BEGIN:STANDARD
TZOFFSETFROM:-0400
TZOFFSETTO:-0500
TZNAME:EST
DTSTART:20271107T060000
END:STANDARD
END:VTIMEZONE
BEGIN:VEVENT
DTSTART;TZID=America/New_York:20260204T200000
DTEND;TZID=America/New_York:20260204T230000
DTSTAMP:20260421T113955
CREATED:20260122T174551Z
LAST-MODIFIED:20260122T223033Z
UID:8191-1770235200-1770246000@laurellanesnj.com
SUMMARY:Karaoke Night with DJ Terry O
DESCRIPTION:
URL:https://laurellanesnj.com/event/karaoke-night-with-dj-terry-o-25/
CATEGORIES:Bar
ATTACH;FMTTYPE=image/png:https://laurellanesnj.com/wp-content/uploads/2026/01/Karaoke-Nights.png
END:VEVENT
BEGIN:VEVENT
DTSTART;TZID=America/New_York:20260212T183000
DTEND;TZID=America/New_York:20260212T210000
DTSTAMP:20260421T113955
CREATED:20260122T174734Z
LAST-MODIFIED:20260122T223211Z
UID:8194-1770921000-1770930000@laurellanesnj.com
SUMMARY:Super Smash Bros Mario Tournament
DESCRIPTION:
URL:https://laurellanesnj.com/event/super-smash-bros-mario-tournament-4/
CATEGORIES:Bar
ATTACH;FMTTYPE=image/png:https://laurellanesnj.com/wp-content/uploads/2026/01/Super-Smash-Bros-Social-Media-1.png
END:VEVENT
BEGIN:VEVENT
DTSTART;TZID=America/New_York:20260218T200000
DTEND;TZID=America/New_York:20260218T230000
DTSTAMP:20260421T113955
CREATED:20260122T174612Z
LAST-MODIFIED:20260128T165105Z
UID:8190-1771444800-1771455600@laurellanesnj.com
SUMMARY:Karaoke Night with DJ Terry O
DESCRIPTION:
URL:https://laurellanesnj.com/event/karaoke-night-with-dj-terry-o-26/
CATEGORIES:Bar
ATTACH;FMTTYPE=image/png:https://laurellanesnj.com/wp-content/uploads/2025/01/karaoke-story-816-e1736282277398.png
END:VEVENT
BEGIN:VEVENT
DTSTART;TZID=America/New_York:20260226T190000
DTEND;TZID=America/New_York:20260226T210000
DTSTAMP:20260421T113955
CREATED:20260122T223318Z
LAST-MODIFIED:20260122T223318Z
UID:8207-1772132400-1772139600@laurellanesnj.com
SUMMARY:Splitz Got Talent
DESCRIPTION:Splitz Got Talent will host a local talent exhibition with two 1-hour performances! Now accepting submissions — send your talent submission + links to social media to LaurelLanesNJ1@gmail.com. The two performers selected will receive $100 each for their performance. 
URL:https://laurellanesnj.com/event/splitz-got-talent/
CATEGORIES:Bar
ATTACH;FMTTYPE=image/png:https://laurellanesnj.com/wp-content/uploads/2026/01/Splitz-Got-Talent-Social-Media.png
END:VEVENT
END:VCALENDAR