BEGIN:VCALENDAR
VERSION:2.0
PRODID:-//Laurel Lanes - ECPv6.15.12//NONSGML v1.0//EN
CALSCALE:GREGORIAN
METHOD:PUBLISH
X-WR-CALNAME:Laurel Lanes
X-ORIGINAL-URL:https://laurellanesnj.com
X-WR-CALDESC:Events for Laurel Lanes
REFRESH-INTERVAL;VALUE=DURATION:PT1H
X-Robots-Tag:noindex
X-PUBLISHED-TTL:PT1H
BEGIN:VTIMEZONE
TZID:America/New_York
BEGIN:DAYLIGHT
TZOFFSETFROM:-0500
TZOFFSETTO:-0400
TZNAME:EDT
DTSTART:20250309T070000
END:DAYLIGHT
BEGIN:STANDARD
TZOFFSETFROM:-0400
TZOFFSETTO:-0500
TZNAME:EST
DTSTART:20251102T060000
END:STANDARD
BEGIN:DAYLIGHT
TZOFFSETFROM:-0500
TZOFFSETTO:-0400
TZNAME:EDT
DTSTART:20260308T070000
END:DAYLIGHT
BEGIN:STANDARD
TZOFFSETFROM:-0400
TZOFFSETTO:-0500
TZNAME:EST
DTSTART:20261101T060000
END:STANDARD
BEGIN:DAYLIGHT
TZOFFSETFROM:-0500
TZOFFSETTO:-0400
TZNAME:EDT
DTSTART:20270314T070000
END:DAYLIGHT
BEGIN:STANDARD
TZOFFSETFROM:-0400
TZOFFSETTO:-0500
TZNAME:EST
DTSTART:20271107T060000
END:STANDARD
END:VTIMEZONE
BEGIN:VEVENT
DTSTART;TZID=America/New_York:20260304T200000
DTEND;TZID=America/New_York:20260304T230000
DTSTAMP:20260421T192452
CREATED:20260227T181536Z
LAST-MODIFIED:20260227T181536Z
UID:8293-1772654400-1772665200@laurellanesnj.com
SUMMARY:Karaoke Night with DJ Terry O
DESCRIPTION:
URL:https://laurellanesnj.com/event/karaoke-night-with-dj-terry-o-27/
CATEGORIES:Bar
ATTACH;FMTTYPE=image/png:https://laurellanesnj.com/wp-content/uploads/2026/02/Karaoke-Nights.png
END:VEVENT
BEGIN:VEVENT
DTSTART;TZID=America/New_York:20260312T190000
DTEND;TZID=America/New_York:20260312T210000
DTSTAMP:20260421T192452
CREATED:20260122T175202Z
LAST-MODIFIED:20260227T180835Z
UID:8200-1773342000-1773349200@laurellanesnj.com
SUMMARY:Bridgerton Trivia
DESCRIPTION:Dearest Gentle Reader\,  \n  \nYou and your closest confidants are cordially invited to join us for Bridgerton Trivia to test your knowledge of the Ton. The diamonds of the season will receive a $50 and $25 gift card for 1st and 2nd place. 
URL:https://laurellanesnj.com/event/bridgerton-trivia/
CATEGORIES:Bar
ATTACH;FMTTYPE=image/png:https://laurellanesnj.com/wp-content/uploads/2026/01/Bridgerton-Trivia-Social-Media-1.png
END:VEVENT
BEGIN:VEVENT
DTSTART;TZID=America/New_York:20260318T200000
DTEND;TZID=America/New_York:20260318T230000
DTSTAMP:20260421T192452
CREATED:20260227T182051Z
LAST-MODIFIED:20260227T182051Z
UID:8300-1773864000-1773874800@laurellanesnj.com
SUMMARY:Karaoke Night with DJ Terry O
DESCRIPTION:
URL:https://laurellanesnj.com/event/karaoke-night-with-dj-terry-o-28/
CATEGORIES:Bar
ATTACH;FMTTYPE=image/png:https://laurellanesnj.com/wp-content/uploads/2026/02/Karaoke-Nights.png
END:VEVENT
BEGIN:VEVENT
DTSTART;TZID=America/New_York:20260408T183000
DTEND;TZID=America/New_York:20260408T210000
DTSTAMP:20260421T192452
CREATED:20260402T201140Z
LAST-MODIFIED:20260402T201156Z
UID:8406-1775673000-1775682000@laurellanesnj.com
SUMMARY:Super Smash Bros Tournament on Nintendo Switch
DESCRIPTION:
URL:https://laurellanesnj.com/event/super-smash-bros-mario-tournament-5/
CATEGORIES:Bar
ATTACH;FMTTYPE=image/png:https://laurellanesnj.com/wp-content/uploads/2026/04/Super-Smash-Bros-Social-Media.png
END:VEVENT
BEGIN:VEVENT
DTSTART;TZID=America/New_York:20260414T183000
DTEND;TZID=America/New_York:20260414T203000
DTSTAMP:20260421T192452
CREATED:20260402T201644Z
LAST-MODIFIED:20260402T201644Z
UID:8410-1776191400-1776198600@laurellanesnj.com
SUMMARY:Happy Cat Paint & Sip!
DESCRIPTION:Come out for a cat painting night & meet adoptable cats from New Pawsibilities of NJ! \n  \nWith every purchase from our exclusive cat-themed menu\, 20% will be donated to New Pawsibilities. \n  \nParticipants will attend a guided painting class and take home a 12″ x 12″ canvas painting! All art supplies will be provided. \n  \nTo purchase tickets\, visit this page and click April 14th: https://us.partywirks.com/storefront_express/main/vendor/laurel_lanes/456/?customer=1
URL:https://laurellanesnj.com/event/happy-cat-paint-sip/
CATEGORIES:Bar
ATTACH;FMTTYPE=image/png:https://laurellanesnj.com/wp-content/uploads/2026/04/Paint-Sip-Reminder.png
END:VEVENT
BEGIN:VEVENT
DTSTART;TZID=America/New_York:20260415T200000
DTEND;TZID=America/New_York:20260415T230000
DTSTAMP:20260421T192452
CREATED:20260402T200939Z
LAST-MODIFIED:20260402T200939Z
UID:8403-1776283200-1776294000@laurellanesnj.com
SUMMARY:Karaoke Night with DJ Terry O
DESCRIPTION:
URL:https://laurellanesnj.com/event/karaoke-night-with-dj-terry-o-29/
CATEGORIES:Bar
ATTACH;FMTTYPE=image/png:https://laurellanesnj.com/wp-content/uploads/2026/04/Karaoke-Nights-2.png
END:VEVENT
BEGIN:VEVENT
DTSTART;TZID=America/New_York:20260426T150000
DTEND;TZID=America/New_York:20260426T163000
DTSTAMP:20260421T192452
CREATED:20260402T201951Z
LAST-MODIFIED:20260402T201951Z
UID:8413-1777215600-1777221000@laurellanesnj.com
SUMMARY:Calligraphy For Beginners
DESCRIPTION:
URL:https://laurellanesnj.com/event/calligraphy-for-beginners/
CATEGORIES:Bar
ATTACH;FMTTYPE=image/png:https://laurellanesnj.com/wp-content/uploads/2026/04/Sip-and-Script-Calligraphy-Social.png
END:VEVENT
END:VCALENDAR